Workbook

Sheet Ядро
A1: Фраза | B1: Частотность | C1: Группа (ВЧ/СЧ/НЧ) | D1: Кластер | E1: Интент | F1: Посадочная страница | G1: Позиция | H1: Слов в фразе | I1: Комментарий
A2: ремонт кондиционеров | B2: 2400 | C2: ==IF(B2="","",IF(B2>=Настройки!$B$2,"ВЧ",IF(B2>=Настройки!$B$3,"СЧ","НЧ"))) | D2: Ремонт кондиционеров | E2: Коммерческий | F2: /remont | H2: ==IF(A2="","",LEN(TRIM(A2))-LEN(SUBSTITUTE(TRIM(A2)," ",""))+1)
A3: ремонт кондиционеров на дому | B3: 320 | C3: ==IF(B3="","",IF(B3>=Настройки!$B$2,"ВЧ",IF(B3>=Настройки!$B$3,"СЧ","НЧ"))) | D3: Ремонт кондиционеров | E3: Коммерческий | F3: /remont | H3: ==IF(A3="","",LEN(TRIM(A3))-LEN(SUBSTITUTE(TRIM(A3)," ",""))+1)
A4: ремонт кондиционера цена | B4: 410 | C4: ==IF(B4="","",IF(B4>=Настройки!$B$2,"ВЧ",IF(B4>=Настройки!$B$3,"СЧ","НЧ"))) | D4: Ремонт кондиционеров | E4: Коммерческий | F4: /remont | H4: ==IF(A4="","",LEN(TRIM(A4))-LEN(SUBSTITUTE(TRIM(A4)," ",""))+1)
A5: не охлаждает кондиционер что делать | B5: 880 | C5: ==IF(B5="","",IF(B5>=Настройки!$B$2,"ВЧ",IF(B5>=Настройки!$B$3,"СЧ","НЧ"))) | D5: Не охлаждает | E5: Информационный | F5: /blog/ne-ohlazhdaet | H5: ==IF(A5="","",LEN(TRIM(A5))-LEN(SUBSTITUTE(TRIM(A5)," ",""))+1)
A6: кондиционер не холодит причины | B6: 260 | C6: ==IF(B6="","",IF(B6>=Настройки!$B$2,"ВЧ",IF(B6>=Настройки!$B$3,"СЧ","НЧ"))) | D6: Не охлаждает | E6: Информационный | F6: /blog/ne-ohlazhdaet | H6: ==IF(A6="","",LEN(TRIM(A6))-LEN(SUBSTITUTE(TRIM(A6)," ",""))+1)
A7: заправка кондиционера фреоном | B7: 1300 | C7: ==IF(B7="","",IF(B7>=Настройки!$B$2,"ВЧ",IF(B7>=Настройки!$B$3,"СЧ","НЧ"))) | D7: Заправка фреоном | E7: Коммерческий | F7: /zapravka | H7: ==IF(A7="","",LEN(TRIM(A7))-LEN(SUBSTITUTE(TRIM(A7)," ",""))+1)
A8: заправка кондиционера цена | B8: 590 | C8: ==IF(B8="","",IF(B8>=Настройки!$B$2,"ВЧ",IF(B8>=Настройки!$B$3,"СЧ","НЧ"))) | D8: Заправка фреоном | E8: Коммерческий | F8: /zapravka | H8: ==IF(A8="","",LEN(TRIM(A8))-LEN(SUBSTITUTE(TRIM(A8)," ",""))+1)
A9: чистка кондиционера | B9: 1900 | C9: ==IF(B9="","",IF(B9>=Настройки!$B$2,"ВЧ",IF(B9>=Настройки!$B$3,"СЧ","НЧ"))) | D9: Чистка | E9: Коммерческий | F9: /chistka | H9: ==IF(A9="","",LEN(TRIM(A9))-LEN(SUBSTITUTE(TRIM(A9)," ",""))+1)
A10: как почистить кондиционер самому | B10: 1100 | C10: ==IF(B10="","",IF(B10>=Настройки!$B$2,"ВЧ",IF(B10>=Настройки!$B$3,"СЧ","НЧ"))) | D10: Чистка | E10: Информационный | F10: /blog/chistka-svoimi-rukami | H10: ==IF(A10="","",LEN(TRIM(A10))-LEN(SUBSTITUTE(TRIM(A10)," ",""))+1)
A11: установка кондиционера | B11: 3600 | C11: ==IF(B11="","",IF(B11>=Настройки!$B$2,"ВЧ",IF(B11>=Настройки!$B$3,"СЧ","НЧ"))) | D11: Установка | E11: Коммерческий | F11: /ustanovka | H11: ==IF(A11="","",LEN(TRIM(A11))-LEN(SUBSTITUTE(TRIM(A11)," ",""))+1)
A12: установка кондиционера под ключ | B12: 140 | C12: ==IF(B12="","",IF(B12>=Настройки!$B$2,"ВЧ",IF(B12>=Настройки!$B$3,"СЧ","НЧ"))) | D12: Установка | E12: Коммерческий | F12: /ustanovka | H12: ==IF(A12="","",LEN(TRIM(A12))-LEN(SUBSTITUTE(TRIM(A12)," ",""))+1)
A13: сколько стоит установить кондиционер | B13: 720 | C13: ==IF(B13="","",IF(B13>=Настройки!$B$2,"ВЧ",IF(B13>=Настройки!$B$3,"СЧ","НЧ"))) | D13: Установка | E13: Коммерческий | F13: /ustanovka | H13: ==IF(A13="","",LEN(TRIM(A13))-LEN(SUBSTITUTE(TRIM(A13)," ",""))+1)
C14: ==IF(B14="","",IF(B14>=Настройки!$B$2,"ВЧ",IF(B14>=Настройки!$B$3,"СЧ","НЧ"))) | H14: ==IF(A14="","",LEN(TRIM(A14))-LEN(SUBSTITUTE(TRIM(A14)," ",""))+1)
C15: ==IF(B15="","",IF(B15>=Настройки!$B$2,"ВЧ",IF(B15>=Настройки!$B$3,"СЧ","НЧ"))) | H15: ==IF(A15="","",LEN(TRIM(A15))-LEN(SUBSTITUTE(TRIM(A15)," ",""))+1)
C16: ==IF(B16="","",IF(B16>=Настройки!$B$2,"ВЧ",IF(B16>=Настройки!$B$3,"СЧ","НЧ"))) | H16: ==IF(A16="","",LEN(TRIM(A16))-LEN(SUBSTITUTE(TRIM(A16)," ",""))+1)
C17: ==IF(B17="","",IF(B17>=Настройки!$B$2,"ВЧ",IF(B17>=Настройки!$B$3,"СЧ","НЧ"))) | H17: ==IF(A17="","",LEN(TRIM(A17))-LEN(SUBSTITUTE(TRIM(A17)," ",""))+1)
C18: ==IF(B18="","",IF(B18>=Настройки!$B$2,"ВЧ",IF(B18>=Настройки!$B$3,"СЧ","НЧ"))) | H18: ==IF(A18="","",LEN(TRIM(A18))-LEN(SUBSTITUTE(TRIM(A18)," ",""))+1)
C19: ==IF(B19="","",IF(B19>=Настройки!$B$2,"ВЧ",IF(B19>=Настройки!$B$3,"СЧ","НЧ"))) | H19: ==IF(A19="","",LEN(TRIM(A19))-LEN(SUBSTITUTE(TRIM(A19)," ",""))+1)
C20: ==IF(B20="","",IF(B20>=Настройки!$B$2,"ВЧ",IF(B20>=Настройки!$B$3,"СЧ","НЧ"))) | H20: ==IF(A20="","",LEN(TRIM(A20))-LEN(SUBSTITUTE(TRIM(A20)," ",""))+1)
C21: ==IF(B21="","",IF(B21>=Настройки!$B$2,"ВЧ",IF(B21>=Настройки!$B$3,"СЧ","НЧ"))) | H21: ==IF(A21="","",LEN(TRIM(A21))-LEN(SUBSTITUTE(TRIM(A21)," ",""))+1)
C22: ==IF(B22="","",IF(B22>=Настройки!$B$2,"ВЧ",IF(B22>=Настройки!$B$3,"СЧ","НЧ"))) | H22: ==IF(A22="","",LEN(TRIM(A22))-LEN(SUBSTITUTE(TRIM(A22)," ",""))+1)
C23: ==IF(B23="","",IF(B23>=Настройки!$B$2,"ВЧ",IF(B23>=Настройки!$B$3,"СЧ","НЧ"))) | H23: ==IF(A23="","",LEN(TRIM(A23))-LEN(SUBSTITUTE(TRIM(A23)," ",""))+1)
C24: ==IF(B24="","",IF(B24>=Настройки!$B$2,"ВЧ",IF(B24>=Настройки!$B$3,"СЧ","НЧ"))) | H24: ==IF(A24="","",LEN(TRIM(A24))-LEN(SUBSTITUTE(TRIM(A24)," ",""))+1)
C25: ==IF(B25="","",IF(B25>=Настройки!$B$2,"ВЧ",IF(B25>=Настройки!$B$3,"СЧ","НЧ"))) | H25: ==IF(A25="","",LEN(TRIM(A25))-LEN(SUBSTITUTE(TRIM(A25)," ",""))+1)
... C501: ==IF(B501="","",IF(B501>=Настройки!$B$2,"ВЧ",IF(B501>=Настройки!$B$3,"СЧ","НЧ"))) | H501: ==IF(A501="","",LEN(TRIM(A501))-LEN(SUBSTITUTE(TRIM(A501)," ",""))+1)

Sheet Кластеры
A1: Кластер | B1: Фраз | C1: Суммарная частотность | D1: Главная фраза (вручную) | E1: Посадочная страница | F1: Статус страницы
A2: Ремонт кондиционеров | B2: ==IF(A2="","",COUNTIF(Ядро!$D$2:$D$501,A2)) | C2: ==IF(A2="","",SUMIF(Ядро!$D$2:$D$501,A2,Ядро!$B$2:$B$501))
A3: Не охлаждает | B3: ==IF(A3="","",COUNTIF(Ядро!$D$2:$D$501,A3)) | C3: ==IF(A3="","",SUMIF(Ядро!$D$2:$D$501,A3,Ядро!$B$2:$B$501))
A4: Заправка фреоном | B4: ==IF(A4="","",COUNTIF(Ядро!$D$2:$D$501,A4)) | C4: ==IF(A4="","",SUMIF(Ядро!$D$2:$D$501,A4,Ядро!$B$2:$B$501))
A5: Чистка | B5: ==IF(A5="","",COUNTIF(Ядро!$D$2:$D$501,A5)) | C5: ==IF(A5="","",SUMIF(Ядро!$D$2:$D$501,A5,Ядро!$B$2:$B$501))
A6: Установка | B6: ==IF(A6="","",COUNTIF(Ядро!$D$2:$D$501,A6)) | C6: ==IF(A6="","",SUMIF(Ядро!$D$2:$D$501,A6,Ядро!$B$2:$B$501))
B7: ==IF(A7="","",COUNTIF(Ядро!$D$2:$D$501,A7)) | C7: ==IF(A7="","",SUMIF(Ядро!$D$2:$D$501,A7,Ядро!$B$2:$B$501))
B8: ==IF(A8="","",COUNTIF(Ядро!$D$2:$D$501,A8)) | C8: ==IF(A8="","",SUMIF(Ядро!$D$2:$D$501,A8,Ядро!$B$2:$B$501))
B9: ==IF(A9="","",COUNTIF(Ядро!$D$2:$D$501,A9)) | C9: ==IF(A9="","",SUMIF(Ядро!$D$2:$D$501,A9,Ядро!$B$2:$B$501))
B10: ==IF(A10="","",COUNTIF(Ядро!$D$2:$D$501,A10)) | C10: ==IF(A10="","",SUMIF(Ядро!$D$2:$D$501,A10,Ядро!$B$2:$B$501))
B11: ==IF(A11="","",COUNTIF(Ядро!$D$2:$D$501,A11)) | C11: ==IF(A11="","",SUMIF(Ядро!$D$2:$D$501,A11,Ядро!$B$2:$B$501))
B12: ==IF(A12="","",COUNTIF(Ядро!$D$2:$D$501,A12)) | C12: ==IF(A12="","",SUMIF(Ядро!$D$2:$D$501,A12,Ядро!$B$2:$B$501))
B13: ==IF(A13="","",COUNTIF(Ядро!$D$2:$D$501,A13)) | C13: ==IF(A13="","",SUMIF(Ядро!$D$2:$D$501,A13,Ядро!$B$2:$B$501))
B14: ==IF(A14="","",COUNTIF(Ядро!$D$2:$D$501,A14)) | C14: ==IF(A14="","",SUMIF(Ядро!$D$2:$D$501,A14,Ядро!$B$2:$B$501))
B15: ==IF(A15="","",COUNTIF(Ядро!$D$2:$D$501,A15)) | C15: ==IF(A15="","",SUMIF(Ядро!$D$2:$D$501,A15,Ядро!$B$2:$B$501))
B16: ==IF(A16="","",COUNTIF(Ядро!$D$2:$D$501,A16)) | C16: ==IF(A16="","",SUMIF(Ядро!$D$2:$D$501,A16,Ядро!$B$2:$B$501))
B17: ==IF(A17="","",COUNTIF(Ядро!$D$2:$D$501,A17)) | C17: ==IF(A17="","",SUMIF(Ядро!$D$2:$D$501,A17,Ядро!$B$2:$B$501))
B18: ==IF(A18="","",COUNTIF(Ядро!$D$2:$D$501,A18)) | C18: ==IF(A18="","",SUMIF(Ядро!$D$2:$D$501,A18,Ядро!$B$2:$B$501))
... B101: ==IF(A101="","",COUNTIF(Ядро!$D$2:$D$501,A101)) | C101: ==IF(A101="","",SUMIF(Ядро!$D$2:$D$501,A101,Ядро!$B$2:$B$501))

Sheet Минус-слова
A1: Минус-слово | B1: Почему исключаем
A2: бесплатно | B2: Нет коммерческого интента
A3: своими руками | B3: Информационный запрос — в блог, не в услугу
A4: вакансии | B4: Ищут работу
A5: авито | B5: Навигационный запрос чужого сайта
A6: б/у | B6: Не наш товар

Sheet Настройки
A1: Параметр | B1: Значение | C1: Пояснение
A2: Порог ВЧ (частотность от) | B2: 1000 | C2: Подберите под нишу: в узких B2B-темах ВЧ начинается от 300
A3: Порог СЧ (частотность от) | B3: 100 | C3: Ниже — НЧ
A5: Как пользоваться
A6: 1. Вставьте фразы и частотность из Вордстата в лист «Ядро» (колонки A и B). Группа и число слов посчитаются сами.
A7: 2. Отсортируйте по фразе или по слову-маркеру и заполните «Кластер»: одна посадочная страница — один кластер.
A8: 3. Перенесите названия кластеров в лист «Кластеры» — число фраз и суммарная частотность посчитаются формулами.
A9: 4. Автоматическая кластеризация, дубли и минус-слова — онлайн: levitsky-c.ru/instrumenty/semanticheskoe-yadro-v-excel
